BEGIN:VCALENDAR
VERSION:2.0
PRODID:-//ChamberMaster//Event Calendar 2.0//EN
METHOD:PUBLISH
X-PUBLISHED-TTL:P1H
REFRESH-INTERVAL:P1H
CALSCALE:GREGORIAN
BEGIN:VTIMEZONE
TZID:America/Chicago
BEGIN:DAYLIGHT
RRULE:FREQ=YEARLY;BYMONTH=3;BYDAY=2SU
DTSTART:20070101T000000
TZOFFSETFROM:-0600
TZOFFSETTO:-0500
TZNAME:Central Daylight Time
END:DAYLIGHT
BEGIN:STANDARD
RRULE:FREQ=YEARLY;BYMONTH=11;BYDAY=1SU
DTSTART:20070101T000000
TZOFFSETFROM:-0500
TZOFFSETTO:-0600
TZNAME:Central Standard Time
END:STANDARD
END:VTIMEZONE
BEGIN:VEVENT
DTSTART;TZID=America/Chicago:20260528T130000
DTEND;TZID=America/Chicago:20260528T160000
X-MICROSOFT-CDO-ALLDAYEVENT:FALSE
SUMMARY:The Forms You Need to Know (Via Zoom)
DESCRIPTION:This course reviews the most widely used TREC and TAR forms needed to conduct real estate transactions. Included are various sales contracts and a wide range of addendum. This course teaches the proper use and completion of these forms and provides a comprehensive view of the types of contracts available for use in real estate transactions. It will also cover how to handle updates and changes to contract forms\, along with other related documents and addenda. The intent of tis course is to provide insight on the importance of using correct form(s) to ensure a successful transaction for the agent and client. Course #06286-RECETexas REALTORS  Provider #0001Instructor: Fred HensleyCE: 3 hoursIf you require special accommodations to fully participate in a class\, send a written description of your needs to the host. For pricing or other information\, call the contact number listed. For qualifying courses\, you must pass the exam and send your course completion certificate to TREC to receive credit.
X-ALT-DESC;FMTTYPE=text/html:<!DOCTYPE html><html><head><title></title></head><body aria-disabled="false"><p><meta charset="utf-8"><span style="color: rgba(0\, 0\, 0\, 0.87)\; font-family: Poppins\; font-size: 14px\; font-style: normal\; font-variant-ligatures: normal\; font-variant-caps: normal\; font-weight: 400\; letter-spacing: 0.2506px\; orphans: 2\; text-align: start\; text-indent: 0px\; text-transform: none\; widows: 2\; word-spacing: 0px\; -webkit-text-stroke-width: 0px\; white-space: normal\; background-color: rgb(255\, 255\, 255)\; text-decoration-thickness: initial\; text-decoration-style: initial\; text-decoration-color: initial\; display: inline !important\; float: none\;">This course reviews the most widely used TREC and TAR forms needed to conduct real estate transactions. Included are various sales contracts and a wide range of addendum. This course teaches the proper use and completion of these forms and provides a comprehensive view of the types of contracts available for use in real estate transactions. It will also cover how to handle updates and changes to contract forms\, along with other related documents and addenda. The intent of tis course is to provide insight on the importance of using correct form(s) to ensure a successful transaction for the agent and client.&nbsp\;</span></p><p>Course #<meta charset="utf-8"><span style="color: rgba(0\, 0\, 0\, 0.87)\; font-family: Poppins\; font-size: 14px\; font-style: normal\; font-variant-ligatures: normal\; font-variant-caps: normal\; font-weight: 400\; letter-spacing: 0.2506px\; orphans: 2\; text-align: start\; text-indent: 0px\; text-transform: none\; widows: 2\; word-spacing: 0px\; -webkit-text-stroke-width: 0px\; white-space: normal\; background-color: rgb(255\, 255\, 255)\; text-decoration-thickness: initial\; text-decoration-style: initial\; text-decoration-color: initial\; display: inline !important\; float: none\;">06286-RECE</span></p><p>Texas REALTORS&reg\; Provider #0001</p><p>Instructor: Fred Hensley</p><p>CE: 3 hours</p><p>If you require special accommodations to fully participate in a class\, send a written description of your needs to the host. For pricing or other information\, call the contact number listed. For qualifying courses\, you must pass the exam and send your course completion certificate to TREC to receive credit.</p><p><br></p></body></html>
LOCATION:
UID:e.1357.1447234
SEQUENCE:3
DTSTAMP:20260426T023659Z
URL:https://members.gmar.org/event-calendar/Details/the-forms-you-need-to-know-via-zoom-1714095?sourceTypeId=Hub
END:VEVENT
END:VCALENDAR
