BEGIN:VCALENDAR
VERSION:2.0
PRODID:-//ChamberMaster//Event Calendar 2.0//EN
METHOD:PUBLISH
X-PUBLISHED-TTL:P1H
REFRESH-INTERVAL:P1H
CALSCALE:GREGORIAN
BEGIN:VTIMEZONE
TZID:America/Chicago
BEGIN:DAYLIGHT
RRULE:FREQ=YEARLY;BYMONTH=3;BYDAY=2SU
DTSTART:20070101T000000
TZOFFSETFROM:-0600
TZOFFSETTO:-0500
TZNAME:Central Daylight Time
END:DAYLIGHT
BEGIN:STANDARD
RRULE:FREQ=YEARLY;BYMONTH=11;BYDAY=1SU
DTSTART:20070101T000000
TZOFFSETFROM:-0500
TZOFFSETTO:-0600
TZNAME:Central Standard Time
END:STANDARD
END:VTIMEZONE
BEGIN:VEVENT
DTSTART;TZID=America/Chicago:20260512T083000
DTEND;TZID=America/Chicago:20260513T170000
X-MICROSOFT-CDO-ALLDAYEVENT:FALSE
SUMMARY:TACS1: Introduction to Commercial Real Estate 4 12th\, 13th\, 19th\, & 20th (Via Zoom)
DESCRIPTION:This course is designed to prepare students for entry into the commercial real estate field by exposing them to the fundamentals of commercial real estate leasing\, property development\, and appraisal valuation methods. Students in this course will develop a comprehensive understanding of the CMA process and the various due diligence elements associated with representing commercial clients.Course #02638 - REQCInstructor: Ginger UngerSAE: 30 hoursIf you require special accommodations to fully participate in a class\, send a written description of your needs to the host. For pricing or other information\, call the contact number listed. For qualifying courses\, you must pass the exam and send your course completion certificate to TREC to receive credit.
X-ALT-DESC;FMTTYPE=text/html:<!DOCTYPE html><html><head><title></title></head><body aria-disabled="false"><p><span style="color: rgba(0\, 0\, 0\, 0.87)\; font-family: Poppins\; font-size: 14px\; font-style: normal\; font-variant-ligatures: normal\; font-variant-caps: normal\; font-weight: 400\; letter-spacing: 0.2506px\; orphans: 2\; text-align: start\; text-indent: 0px\; text-transform: none\; widows: 2\; word-spacing: 0px\; -webkit-text-stroke-width: 0px\; white-space: normal\; background-color: rgb(255\, 255\, 255)\; text-decoration-thickness: initial\; text-decoration-style: initial\; text-decoration-color: initial\; display: inline !important\; float: none\;">This course is designed to prepare students for entry into the commercial real estate field by exposing them to the fundamentals of commercial real estate leasing\, property development\, and appraisal valuation methods. Students in this course will develop a comprehensive understanding of the CMA process and the various due diligence elements associated with representing commercial clients.</span></p><p>Course #02638 - REQC</p><p>Instructor: Ginger Unger</p><p>SAE: 30 hours</p><p>If you require special accommodations to fully participate in a class\, send a written description of your needs to the host. For pricing or other information\, call the contact number listed. For qualifying courses\, you must pass the exam and send your course completion certificate to TREC to receive credit.</p></body></html>
LOCATION:
UID:e.1357.1388255
SEQUENCE:3
DTSTAMP:20260426T023709Z
URL:https://members.gmar.org/event-calendar/Details/tacs1-introduction-to-commercial-real-estate-4-12th-13th-19th-20th-via-zoom-1639615?sourceTypeId=Hub
END:VEVENT
END:VCALENDAR
