BEGIN:VCALENDAR
VERSION:2.0
PRODID:-//ChamberMaster//Event Calendar 2.0//EN
METHOD:PUBLISH
X-PUBLISHED-TTL:P1H
REFRESH-INTERVAL:P1H
CALSCALE:GREGORIAN
BEGIN:VTIMEZONE
TZID:America/Chicago
BEGIN:DAYLIGHT
RRULE:FREQ=YEARLY;BYMONTH=3;BYDAY=2SU
DTSTART:20070101T000000
TZOFFSETFROM:-0600
TZOFFSETTO:-0500
TZNAME:Central Daylight Time
END:DAYLIGHT
BEGIN:STANDARD
RRULE:FREQ=YEARLY;BYMONTH=11;BYDAY=1SU
DTSTART:20070101T000000
TZOFFSETFROM:-0500
TZOFFSETTO:-0600
TZNAME:Central Standard Time
END:STANDARD
END:VTIMEZONE
BEGIN:VEVENT
DTSTART;TZID=America/Chicago:20260505T123000
DTEND;TZID=America/Chicago:20260505T153000
X-MICROSOFT-CDO-ALLDAYEVENT:FALSE
SUMMARY:Real Estate Ethics & Realtor Code of Ethics (Via Zoom)
DESCRIPTION:This course will review the history of the Code of Ethics as it relates to its origins\, its influence on state licensing laws and its establishment of arbitration as the monetary dispute resolution process between REALTORS . Finally\, we will apply the REALTOR  Code of Ethics Articles to everyday real estate practices.Course #06208-RECETexas REALTORS  Provider #0001Instructor: Brent LancasterCE: 3 hoursIf you require special accommodations to fully participate in a class\, send a written description of your needs to the host. For pricing or other information\, call the contact number listed. For qualifying courses\, you must pass the exam and send your course completion certificate to TREC to receive credit.
X-ALT-DESC;FMTTYPE=text/html:<!DOCTYPE html><html><head><title></title></head><body aria-disabled="false"><p><meta charset="utf-8"><span style="color: rgba(0\, 0\, 0\, 0.87)\; font-family: Poppins\; font-size: 14px\; font-style: normal\; font-variant-ligatures: normal\; font-variant-caps: normal\; font-weight: 400\; letter-spacing: 0.2506px\; orphans: 2\; text-align: start\; text-indent: 0px\; text-transform: none\; widows: 2\; word-spacing: 0px\; -webkit-text-stroke-width: 0px\; white-space: normal\; background-color: rgb(255\, 255\, 255)\; text-decoration-thickness: initial\; text-decoration-style: initial\; text-decoration-color: initial\; display: inline !important\; float: none\;">This course will review the history of the Code of Ethics as it relates to its origins\, its influence on state licensing laws and its establishment of arbitration as the monetary dispute resolution process between REALTORS&reg\;. Finally\, we will apply the REALTOR&reg\; Code of Ethics Articles to everyday real estate practices.</span></p><p>Course #<meta charset="utf-8"><span style="color: rgba(0\, 0\, 0\, 0.87)\; font-family: Poppins\; font-size: 14px\; font-style: normal\; font-variant-ligatures: normal\; font-variant-caps: normal\; font-weight: 400\; letter-spacing: 0.2506px\; orphans: 2\; text-align: start\; text-indent: 0px\; text-transform: none\; widows: 2\; word-spacing: 0px\; -webkit-text-stroke-width: 0px\; white-space: normal\; background-color: rgb(255\, 255\, 255)\; text-decoration-thickness: initial\; text-decoration-style: initial\; text-decoration-color: initial\; display: inline !important\; float: none\;">06208-RECE</span></p><p>Texas REALTORS&reg\; Provider #0001</p><p>Instructor: Brent Lancaster</p><p><meta charset="utf-8"></p><p>CE: 3 hours</p><p>If you require special accommodations to fully participate in a class\, send a written description of your needs to the host. For pricing or other information\, call the contact number listed. For qualifying courses\, you must pass the exam and send your course completion certificate to TREC to receive credit.</p><p><br></p></body></html>
LOCATION:
UID:e.1357.1447217
SEQUENCE:3
DTSTAMP:20260426T023549Z
URL:https://members.gmar.org/event-calendar/Details/real-estate-ethics-realtor-code-of-ethics-via-zoom-1714070?sourceTypeId=Hub
END:VEVENT
END:VCALENDAR
