BEGIN:VCALENDAR
VERSION:2.0
PRODID:-//ChamberMaster//Event Calendar 2.0//EN
METHOD:PUBLISH
X-PUBLISHED-TTL:P1H
REFRESH-INTERVAL:P1H
CALSCALE:GREGORIAN
BEGIN:VTIMEZONE
TZID:America/Chicago
BEGIN:DAYLIGHT
RRULE:FREQ=YEARLY;BYMONTH=3;BYDAY=2SU
DTSTART:20070101T000000
TZOFFSETFROM:-0600
TZOFFSETTO:-0500
TZNAME:Central Daylight Time
END:DAYLIGHT
BEGIN:STANDARD
RRULE:FREQ=YEARLY;BYMONTH=11;BYDAY=1SU
DTSTART:20070101T000000
TZOFFSETFROM:-0500
TZOFFSETTO:-0600
TZNAME:Central Standard Time
END:STANDARD
END:VTIMEZONE
BEGIN:VEVENT
DTSTART;TZID=America/Chicago:20260505T130000
DTEND;TZID=America/Chicago:20260505T160000
X-MICROSOFT-CDO-ALLDAYEVENT:FALSE
SUMMARY:CCIM : Transitioning From Residential To Commercial Real Estate
DESCRIPTION:The Transitioning From Residential To Commercial Real Estate course delivers practical insights into the considerations for transitioning from a career in residential real estate to commercial.  This course is designed for residential real estate aspiring to broker or invest in commercial real estate or who are interested in practicing both residential and commercial real estate or who are interest in practicing both residential and commercial real estate\, with a focus on building a versatile skill set.\nInstructors:\nCesar Cepeda\, CCIM\, Sr. President exp Commercial and Daw Brewer\, CCIM\, Principal\, MBA Strongtower Commercial
X-ALT-DESC;FMTTYPE=text/html:The Transitioning From Residential To Commercial Real Estate course delivers practical insights into the considerations for transitioning from a career in residential real estate to commercial.  This course is designed for residential real estate aspiring to broker or invest in commercial real estate or who are interested in practicing both residential and commercial real estate or who are interest in practicing both residential and commercial real estate\, with a focus on building a versatile skill set.\nInstructors:\nCesar Cepeda\, CCIM\, Sr. President exp Commercial and Daw Brewer\, CCIM\, Principal\, MBA Strongtower Commercial
LOCATION:1324 E Nolana Avenue McAllen TX 78504
UID:e.1357.1424323
SEQUENCE:3
DTSTAMP:20260426T023342Z
URL:https://members.gmar.org/event-calendar/Details/ccim-transitioning-from-residential-to-commercial-real-estate-1684048?sourceTypeId=Hub
END:VEVENT
END:VCALENDAR
