BEGIN:VCALENDAR
VERSION:2.0
PRODID:-//ChamberMaster//Event Calendar 2.0//EN
METHOD:PUBLISH
X-PUBLISHED-TTL:P1H
REFRESH-INTERVAL:P1H
CALSCALE:GREGORIAN
BEGIN:VTIMEZONE
TZID:America/Chicago
BEGIN:DAYLIGHT
RRULE:FREQ=YEARLY;BYMONTH=3;BYDAY=2SU
DTSTART:20070101T000000
TZOFFSETFROM:-0600
TZOFFSETTO:-0500
TZNAME:Central Daylight Time
END:DAYLIGHT
BEGIN:STANDARD
RRULE:FREQ=YEARLY;BYMONTH=11;BYDAY=1SU
DTSTART:20070101T000000
TZOFFSETFROM:-0500
TZOFFSETTO:-0600
TZNAME:Central Standard Time
END:STANDARD
END:VTIMEZONE
BEGIN:VEVENT
DTSTART;TZID=America/Chicago:20260504T130000
DTEND;TZID=America/Chicago:20260504T160000
X-MICROSOFT-CDO-ALLDAYEVENT:FALSE
SUMMARY:CCIM : Introduction To Commercial Real Estate
DESCRIPTION:The Introduction To Commercial Real Estate course introduces foundational commercial real estate concepts including market analysis\, leasing fundamentals\, investor behavior\, and asset performance.\nInstructors: \nCesar Cepeda\, CCIM\, Sr. Vice President exp Commercial and Daw Brewer\, CCIM\, Principal\, MBA Strongtower Commercial
X-ALT-DESC;FMTTYPE=text/html:The Introduction To Commercial Real Estate course introduces foundational commercial real estate concepts including market analysis\, leasing fundamentals\, investor behavior\, and asset performance.\nInstructors: \nCesar Cepeda\, CCIM\, Sr. Vice President exp Commercial and Daw Brewer\, CCIM\, Principal\, MBA Strongtower Commercial
LOCATION:1324 E Nolana Avenue McAllen TX 78504
UID:e.1357.1424315
SEQUENCE:3
DTSTAMP:20260426T024124Z
URL:https://members.gmar.org/event-calendar/Details/ccim-introduction-to-commercial-real-estate-1684040?sourceTypeId=Hub
END:VEVENT
END:VCALENDAR
