BEGIN:VCALENDAR
VERSION:2.0
PRODID:-//ChamberMaster//Event Calendar 2.0//EN
METHOD:PUBLISH
X-PUBLISHED-TTL:P1H
REFRESH-INTERVAL:P1H
CALSCALE:GREGORIAN
BEGIN:VTIMEZONE
TZID:America/Chicago
BEGIN:DAYLIGHT
RRULE:FREQ=YEARLY;BYMONTH=3;BYDAY=2SU
DTSTART:20070101T000000
TZOFFSETFROM:-0600
TZOFFSETTO:-0500
TZNAME:Central Daylight Time
END:DAYLIGHT
BEGIN:STANDARD
RRULE:FREQ=YEARLY;BYMONTH=11;BYDAY=1SU
DTSTART:20070101T000000
TZOFFSETFROM:-0500
TZOFFSETTO:-0600
TZNAME:Central Standard Time
END:STANDARD
END:VTIMEZONE
BEGIN:VEVENT
DTSTART;TZID=America/Chicago:20260427T083000
DTEND;TZID=America/Chicago:20260428T170000
X-MICROSOFT-CDO-ALLDAYEVENT:FALSE
SUMMARY:GRI: Business Skills 20th\, 21st\, 27th and 28th 4 Days ( Via Zoom )
DESCRIPTION:** Canceled **Topics include:Day 1: Seller ServicesDay 2: Buyer ServicesDay 3: TechnologyDay 4: Environment & Green BuildingCourse #02640-REQCInstructor: Ginger UngerSAE: 30 hoursIf you require special accommodations to fully participate in a class\, send a written description of your needs to the host. For pricing or other information\, call the contact number listed. For qualifying courses\, you must pass the exam and send your course completion certificate to TREC to receive credit.
X-ALT-DESC;FMTTYPE=text/html:<!DOCTYPE html><html><head><title></title></head><body aria-disabled="false"><p>** Canceled **</p><p><u><span style="font-family: Tahoma\, Geneva\, sans-serif\; font-size: 14px\;">Topics include:</span></u></p><p style="margin: 0px 0px 12px\; color: rgba(0\, 0\, 0\, 0.87)\; font-family: Poppins\; font-size: 14px\; font-style: normal\; font-variant-ligatures: normal\; font-variant-caps: normal\; font-weight: 400\; letter-spacing: 0.2506px\; orphans: 2\; text-align: start\; text-indent: 0px\; text-transform: none\; widows: 2\; word-spacing: 0px\; -webkit-text-stroke-width: 0px\; white-space: normal\; background-color: rgb(255\, 255\, 255)\; text-decoration-thickness: initial\; text-decoration-style: initial\; text-decoration-color: initial\;"><span style="font-size: 14px\;"><span style="font-family: Tahoma\,Geneva\,sans-serif\;">Day 1: Seller Services</span></span></p><p style="margin: 0px 0px 12px\; color: rgba(0\, 0\, 0\, 0.87)\; font-family: Poppins\; font-size: 14px\; font-style: normal\; font-variant-ligatures: normal\; font-variant-caps: normal\; font-weight: 400\; letter-spacing: 0.2506px\; orphans: 2\; text-align: start\; text-indent: 0px\; text-transform: none\; widows: 2\; word-spacing: 0px\; -webkit-text-stroke-width: 0px\; white-space: normal\; background-color: rgb(255\, 255\, 255)\; text-decoration-thickness: initial\; text-decoration-style: initial\; text-decoration-color: initial\;"><span style="font-size: 14px\;"><span style="font-family: Tahoma\,Geneva\,sans-serif\;">Day 2: Buyer Services</span></span></p><p style="margin: 0px 0px 12px\; color: rgba(0\, 0\, 0\, 0.87)\; font-family: Poppins\; font-size: 14px\; font-style: normal\; font-variant-ligatures: normal\; font-variant-caps: normal\; font-weight: 400\; letter-spacing: 0.2506px\; orphans: 2\; text-align: start\; text-indent: 0px\; text-transform: none\; widows: 2\; word-spacing: 0px\; -webkit-text-stroke-width: 0px\; white-space: normal\; background-color: rgb(255\, 255\, 255)\; text-decoration-thickness: initial\; text-decoration-style: initial\; text-decoration-color: initial\;"><span style="font-size: 14px\;"><span style="font-family: Tahoma\,Geneva\,sans-serif\;">Day 3: Technology</span></span></p><p style="margin: 0px 0px 12px\; color: rgba(0\, 0\, 0\, 0.87)\; font-family: Poppins\; font-size: 14px\; font-style: normal\; font-variant-ligatures: normal\; font-variant-caps: normal\; font-weight: 400\; letter-spacing: 0.2506px\; orphans: 2\; text-align: start\; text-indent: 0px\; text-transform: none\; widows: 2\; word-spacing: 0px\; -webkit-text-stroke-width: 0px\; white-space: normal\; background-color: rgb(255\, 255\, 255)\; text-decoration-thickness: initial\; text-decoration-style: initial\; text-decoration-color: initial\;"><span style="font-family: Tahoma\, Geneva\, sans-serif\; font-size: 14px\;">Day 4: Environment &amp\; Green Building</span></p><p>Course #<meta charset="utf-8"><span style="color: rgba(0\, 0\, 0\, 0.87)\; font-family: Tahoma\, Geneva\, sans-serif\; font-size: 14px\; font-style: normal\; font-variant-ligatures: normal\; font-variant-caps: normal\; font-weight: 400\; letter-spacing: 0.2506px\; orphans: 2\; text-align: start\; text-indent: 0px\; text-transform: none\; widows: 2\; word-spacing: 0px\; -webkit-text-stroke-width: 0px\; white-space: normal\; background-color: rgb(255\, 255\, 255)\; text-decoration-thickness: initial\; text-decoration-style: initial\; text-decoration-color: initial\; float: none\; display: inline !important\;">02640-REQC</span></p><p>Instructor: Ginger Unger</p><p>SAE: 30 hours</p><p>If you require special accommodations to fully participate in a class\, send a written description of your needs to the host. For pricing or other information\, call the contact number listed. For qualifying courses\, you must pass the exam and send your course completion certificate to TREC to receive credit.</p></body></html>
LOCATION:
UID:e.1357.1377469
SEQUENCE:3
DTSTAMP:20260426T023906Z
URL:https://members.gmar.org/event-calendar/Details/gri-business-skills-20th-21st-27th-and-28th-4-days-via-zoom-1626310?sourceTypeId=Hub
END:VEVENT
END:VCALENDAR
